BEGIN:VCALENDAR
VERSION:2.0
PRODID:-//Sabre//Sabre VObject 4.2.0//EN
CALSCALE:GREGORIAN
BEGIN:VTIMEZONE
TZID:Europe/Stockholm
TZURL:http://tzurl.org/zoneinfo-outlook/Europe/Stockholm
X-LIC-LOCATION:Europe/Stockholm
BEGIN:DAYLIGHT
TZOFFSETFROM:+0100
TZOFFSETTO:+0200
TZNAME:CEST
DTSTART:19700329T020000
RRULE:FREQ=YEARLY;BYMONTH=3;BYDAY=-1SU
END:DAYLIGHT
BEGIN:STANDARD
TZOFFSETFROM:+0200
TZOFFSETTO:+0100
TZNAME:CET
DTSTART:19701025T030000
RRULE:FREQ=YEARLY;BYMONTH=10;BYDAY=-1SU
END:STANDARD
END:VTIMEZONE
BEGIN:VEVENT
DTSTAMP:20190520T133853Z
UID:20190520T133853Z-1707766213@si.se
DTSTART;TZID=Europe/Stockholm:20190423T100000
DTEND;TZID=Europe/Stockholm:20190423T150000
SUMMARY:Kyiv: "Clean water and remediation technologies workshop"
DESCRIPTION:\n\nLink to event:\n\nhttps://alumni.si.se/events/kyiv-clean-wa
 ter-and-remediation-technologies-workshop/\n\n
LOCATION:
END:VEVENT
END:VCALENDAR
